BEGIN:VCALENDAR
VERSION:2.0
PRODID:-//Jardines de Paz - ECPv5.3.0//NONSGML v1.0//EN
CALSCALE:GREGORIAN
METHOD:PUBLISH
X-WR-CALNAME:Jardines de Paz
X-ORIGINAL-URL:https://jardinesdepaz.com
X-WR-CALDESC:Eventos para Jardines de Paz
BEGIN:VTIMEZONE
TZID:America/Bogota
BEGIN:STANDARD
TZOFFSETFROM:-0500
TZOFFSETTO:-0500
TZNAME:-05
DTSTART:20260101T000000
END:STANDARD
END:VTIMEZONE
BEGIN:VEVENT
DTSTART;TZID=America/Bogota:20260421T150000
DTEND;TZID=America/Bogota:20260421T150000
DTSTAMP:20260421T040628
CREATED:20260421T065305Z
LAST-MODIFIED:20260421T065639Z
UID:55127-1776783600-1776783600@jardinesdepaz.com
SUMMARY:Luis Alfonso Ruiz Abaunza(Q.E.P.D)
DESCRIPTION:Inhumación   Jardines de  Paz
URL:https://jardinesdepaz.com/obituario/luis-alfonso-ruiz-abaunzaq-e-p-d/
LOCATION:Funeraria Parque Cementerio Jardines del Recuerdo\, Autopista Norte Calle 207 costado Occidental\, Bogotá
END:VEVENT
BEGIN:VEVENT
DTSTART;TZID=America/Bogota:20260421T140000
DTEND;TZID=America/Bogota:20260421T140000
DTSTAMP:20260421T040628
CREATED:20260421T065036Z
LAST-MODIFIED:20260421T065249Z
UID:55125-1776780000-1776780000@jardinesdepaz.com
SUMMARY:Jose Antonio Montaño Hidalgo(Q.E.P.D)
DESCRIPTION:Inhumación   Jardines de  Paz
URL:https://jardinesdepaz.com/obituario/jose-antonio-montano-hidalgoq-e-p-d/
LOCATION:Candelaria San Diego\, Carrera 13 34 - 69\, Bogotá\, Colombia
END:VEVENT
BEGIN:VEVENT
DTSTART;TZID=America/Bogota:20260421T140000
DTEND;TZID=America/Bogota:20260421T140000
DTSTAMP:20260421T040628
CREATED:20260421T064546Z
LAST-MODIFIED:20260421T064748Z
UID:55121-1776780000-1776780000@jardinesdepaz.com
SUMMARY:Jaime Mario Castillo Vasquez:(Q.E.P.D)
DESCRIPTION:                                    Cremación   Jardines de  Paz
URL:https://jardinesdepaz.com/obituario/jaime-mario-castillo-vasquezq-e-p-d/
LOCATION:Gaviria 98\, Calle 98 17A 20\, Bogotá\, Colombia
END:VEVENT
BEGIN:VEVENT
DTSTART;TZID=America/Bogota:20260421T113000
DTEND;TZID=America/Bogota:20260421T113000
DTSTAMP:20260421T040628
CREATED:20260421T065643Z
LAST-MODIFIED:20260421T065853Z
UID:55129-1776771000-1776771000@jardinesdepaz.com
SUMMARY:Johan Sebastian Chavez Cuellar(Q.E.P.D)
DESCRIPTION:Inhumación   Jardines de  Paz
URL:https://jardinesdepaz.com/obituario/johan-sebastian-chavez-cuellarq-e-p-d/
LOCATION:Funeraria\, Cristo Rey\, Bogota
END:VEVENT
BEGIN:VEVENT
DTSTART;TZID=America/Bogota:20260421T110000
DTEND;TZID=America/Bogota:20260421T110000
DTSTAMP:20260421T040628
CREATED:20260421T064258Z
LAST-MODIFIED:20260421T064533Z
UID:55119-1776769200-1776769200@jardinesdepaz.com
SUMMARY:Blanca Judith Sanchez De Solano(Q.E.P.D)
DESCRIPTION:Cremación   Jardines de  Paz
URL:https://jardinesdepaz.com/obituario/blanca-judith-sanchez-de-solanoq-e-p-d/
LOCATION:Gaviria 98\, Calle 98 17A 20\, Bogotá\, Colombia
END:VEVENT
BEGIN:VEVENT
DTSTART;TZID=America/Bogota:20260421T100000
DTEND;TZID=America/Bogota:20260421T100000
DTSTAMP:20260421T040628
CREATED:20260421T064753Z
LAST-MODIFIED:20260421T065030Z
UID:55123-1776765600-1776765600@jardinesdepaz.com
SUMMARY:Denjagic Faik
DESCRIPTION:                                    Inhumación   Jardines de  Paz
URL:https://jardinesdepaz.com/obituario/denjagic-faik/
LOCATION:Inversiones Y Planes De La Paz
END:VEVENT
END:VCALENDAR