BEGIN:VCALENDAR
VERSION:2.0
PRODID:-//Jardines de Paz - ECPv5.3.0//NONSGML v1.0//EN
CALSCALE:GREGORIAN
METHOD:PUBLISH
X-WR-CALNAME:Jardines de Paz
X-ORIGINAL-URL:https://jardinesdepaz.com
X-WR-CALDESC:Eventos para Jardines de Paz
BEGIN:VTIMEZONE
TZID:America/Bogota
BEGIN:STANDARD
TZOFFSETFROM:-0500
TZOFFSETTO:-0500
TZNAME:-05
DTSTART:20260101T000000
END:STANDARD
END:VTIMEZONE
BEGIN:VEVENT
DTSTART;TZID=America/Bogota:20260423T130000
DTEND;TZID=America/Bogota:20260423T130000
DTSTAMP:20260423T053726
CREATED:20260423T062740Z
LAST-MODIFIED:20260423T062740Z
UID:55169-1776949200-1776949200@jardinesdepaz.com
SUMMARY:Maria Adelaida Segura de Castiblanco (Q.E.P.D)
DESCRIPTION:Cremacion   Jardines de  Paz
URL:https://jardinesdepaz.com/obituario/maria-adelaida-segura-de-castiblanco-q-e-p-d/
LOCATION:Candelaria Chico\, Calle 98 18 A 03\, Bogotá\, Colombia
END:VEVENT
END:VCALENDAR