BEGIN:VCALENDAR
VERSION:2.0
PRODID:-//Jardines de Paz - ECPv5.3.0//NONSGML v1.0//EN
CALSCALE:GREGORIAN
METHOD:PUBLISH
X-WR-CALNAME:Jardines de Paz
X-ORIGINAL-URL:https://jardinesdepaz.com
X-WR-CALDESC:Eventos para Jardines de Paz
BEGIN:VTIMEZONE
TZID:America/Bogota
BEGIN:STANDARD
TZOFFSETFROM:-0500
TZOFFSETTO:-0500
TZNAME:-05
DTSTART:20260101T000000
END:STANDARD
END:VTIMEZONE
BEGIN:VEVENT
DTSTART;TZID=America/Bogota:20260423T110000
DTEND;TZID=America/Bogota:20260423T110000
DTSTAMP:20260423T081119
CREATED:20260423T064401Z
LAST-MODIFIED:20260423T064401Z
UID:55181-1776942000-1776942000@jardinesdepaz.com
SUMMARY:Elvira Ordoñes de Pinzon (Q.E.P.D)
DESCRIPTION:Cremacion   Jardines de  Paz
URL:https://jardinesdepaz.com/obituario/elvira-ordones-de-pinzon-q-e-p-d/
LOCATION:Capillas de la Fe (Orquídeas)\, Avenida Calle 68 39 - 02\, Bogotá\, Colombia
END:VEVENT
END:VCALENDAR