BEGIN:VCALENDAR
VERSION:2.0
PRODID:-//Jardines de Paz - ECPv5.3.0//NONSGML v1.0//EN
CALSCALE:GREGORIAN
METHOD:PUBLISH
X-WR-CALNAME:Jardines de Paz
X-ORIGINAL-URL:https://jardinesdepaz.com
X-WR-CALDESC:Eventos para Jardines de Paz
BEGIN:VTIMEZONE
TZID:America/Bogota
BEGIN:STANDARD
TZOFFSETFROM:-0500
TZOFFSETTO:-0500
TZNAME:-05
DTSTART:20260101T000000
END:STANDARD
END:VTIMEZONE
BEGIN:VEVENT
DTSTART;TZID=America/Bogota:20260421T100000
DTEND;TZID=America/Bogota:20260421T100000
DTSTAMP:20260421T080257
CREATED:20260421T064753Z
LAST-MODIFIED:20260421T065030Z
UID:55123-1776765600-1776765600@jardinesdepaz.com
SUMMARY:Denjagic Faik
DESCRIPTION:                                    Inhumación   Jardines de  Paz
URL:https://jardinesdepaz.com/obituario/denjagic-faik/
LOCATION:Inversiones Y Planes De La Paz
END:VEVENT
END:VCALENDAR