BEGIN:VCALENDAR
VERSION:2.0
PRODID:-//Jardines de Paz - ECPv5.3.0//NONSGML v1.0//EN
CALSCALE:GREGORIAN
METHOD:PUBLISH
X-WR-CALNAME:Jardines de Paz
X-ORIGINAL-URL:https://jardinesdepaz.com
X-WR-CALDESC:Eventos para Jardines de Paz
BEGIN:VTIMEZONE
TZID:America/Bogota
BEGIN:STANDARD
TZOFFSETFROM:-0500
TZOFFSETTO:-0500
TZNAME:-05
DTSTART:20260101T000000
END:STANDARD
END:VTIMEZONE
BEGIN:VEVENT
DTSTART;TZID=America/Bogota:20260423T103000
DTEND;TZID=America/Bogota:20260423T103000
DTSTAMP:20260423T081207
CREATED:20260423T063722Z
LAST-MODIFIED:20260423T063722Z
UID:55175-1776940200-1776940200@jardinesdepaz.com
SUMMARY:Bertha Cecilia Ruiz de Cubillos (Q.E.P.D)
DESCRIPTION:Inhumacion  Jardines de  Paz
URL:https://jardinesdepaz.com/obituario/bertha-cecilia-ruiz-de-cubillos-q-e-p-d/
LOCATION:Olivos Teusaquillo\, Carrera 18 33 - 12\, Bogotá\, Colombia
END:VEVENT
END:VCALENDAR